BEGIN:VCALENDAR
VERSION:2.0
BEGIN:VEVENT
DTSTART;TZID=Europe/Stockholm:20320201T110000
DTEND;TZID=Europe/Stockholm:20320201T120000
DTSTAMP:20260426T032715
DESCRIPTION:
SEQUENCE:0
SUMMARY:Gudstjänst
UID:6459@lawebb.se
END:VEVENT
END:VCALENDAR