BEGIN:VCALENDAR
VERSION:2.0
BEGIN:VEVENT
DTSTART;TZID=Europe/Stockholm:20320125T110000
DTEND;TZID=Europe/Stockholm:20320125T120000
DTSTAMP:20260426T020134
DESCRIPTION:
SEQUENCE:0
SUMMARY:Gudstjänst
UID:6497@lawebb.se
END:VEVENT
END:VCALENDAR