BEGIN:VCALENDAR
VERSION:2.0
BEGIN:VEVENT
DTSTART;TZID=Europe/Stockholm:20320104T110000
DTEND;TZID=Europe/Stockholm:20320104T120000
DTSTAMP:20260426T015909
DESCRIPTION:
SEQUENCE:0
SUMMARY:Gudstjänst
UID:4446@lawebb.se
END:VEVENT
END:VCALENDAR