BEGIN:VCALENDAR
VERSION:2.0
BEGIN:VEVENT
DTSTART;TZID=Europe/Stockholm:20311207T110000
DTEND;TZID=Europe/Stockholm:20311207T120000
DTSTAMP:20260426T003405
DESCRIPTION:
SEQUENCE:0
SUMMARY:Gudstjänst
UID:9634@lawebb.se
END:VEVENT
END:VCALENDAR