BEGIN:VCALENDAR
VERSION:2.0
BEGIN:VEVENT
DTSTART;TZID=Europe/Stockholm:20311123T110000
DTEND;TZID=Europe/Stockholm:20311123T120000
DTSTAMP:20260425T231817
DESCRIPTION:
SEQUENCE:0
SUMMARY:Gudstjänst
UID:6299@lawebb.se
END:VEVENT
END:VCALENDAR