BEGIN:VCALENDAR
VERSION:2.0
BEGIN:VEVENT
DTSTART;TZID=Europe/Stockholm:20311102T110000
DTEND;TZID=Europe/Stockholm:20311102T120000
DTSTAMP:20260425T231741
DESCRIPTION:
SEQUENCE:0
SUMMARY:Gudstjänst
UID:3669@lawebb.se
END:VEVENT
END:VCALENDAR