BEGIN:VCALENDAR
VERSION:2.0
BEGIN:VEVENT
DTSTART;TZID=Europe/Stockholm:20311019T110000
DTEND;TZID=Europe/Stockholm:20311019T120000
DTSTAMP:20260425T214943
DESCRIPTION:
SEQUENCE:0
SUMMARY:Gudstjänst
UID:2569@lawebb.se
END:VEVENT
END:VCALENDAR