BEGIN:VCALENDAR
VERSION:2.0
BEGIN:VEVENT
DTSTART;TZID=Europe/Stockholm:20310706T110000
DTEND;TZID=Europe/Stockholm:20310706T120000
DTSTAMP:20260425T170100
DESCRIPTION:
SEQUENCE:0
SUMMARY:Gudstjänst
UID:5946@lawebb.se
END:VEVENT
END:VCALENDAR