BEGIN:VCALENDAR
VERSION:2.0
BEGIN:VEVENT
DTSTART;TZID=Europe/Stockholm:20310622T110000
DTEND;TZID=Europe/Stockholm:20310622T120000
DTSTAMP:20260425T151654
DESCRIPTION:
SEQUENCE:0
SUMMARY:Gudstjänst
UID:8458@lawebb.se
END:VEVENT
END:VCALENDAR