BEGIN:VCALENDAR
VERSION:2.0
BEGIN:VEVENT
DTSTART;TZID=Europe/Stockholm:20310525T110000
DTEND;TZID=Europe/Stockholm:20310525T120000
DTSTAMP:20260425T134206
DESCRIPTION:
SEQUENCE:0
SUMMARY:Gudstjänst
UID:3395@lawebb.se
END:VEVENT
END:VCALENDAR