BEGIN:VCALENDAR
VERSION:2.0
BEGIN:VEVENT
DTSTART;TZID=Europe/Stockholm:20310223T110000
DTEND;TZID=Europe/Stockholm:20310223T120000
DTSTAMP:20260423T073334
DESCRIPTION:
SEQUENCE:0
SUMMARY:Gudstjänst
UID:4657@lawebb.se
END:VEVENT
END:VCALENDAR