BEGIN:VCALENDAR
VERSION:2.0
BEGIN:VEVENT
DTSTART;TZID=Europe/Stockholm:20310216T110000
DTEND;TZID=Europe/Stockholm:20310216T120000
DTSTAMP:20260423T073410
DESCRIPTION:
SEQUENCE:0
SUMMARY:Gudstjänst
UID:4287@lawebb.se
END:VEVENT
END:VCALENDAR