BEGIN:VCALENDAR
VERSION:2.0
BEGIN:VEVENT
DTSTART;TZID=Europe/Stockholm:20310119T110000
DTEND;TZID=Europe/Stockholm:20310119T120000
DTSTAMP:20260423T060356
DESCRIPTION:
SEQUENCE:0
SUMMARY:Gudstjänst
UID:8959@lawebb.se
END:VEVENT
END:VCALENDAR