BEGIN:VCALENDAR
VERSION:2.0
BEGIN:VEVENT
DTSTART;TZID=Europe/Stockholm:20301229T110000
DTEND;TZID=Europe/Stockholm:20301229T120000
DTSTAMP:20260423T044308
DESCRIPTION:
SEQUENCE:0
SUMMARY:Gudstjänst
UID:4762@lawebb.se
END:VEVENT
END:VCALENDAR