BEGIN:VCALENDAR
VERSION:2.0
BEGIN:VEVENT
DTSTART;TZID=Europe/Stockholm:20301208T110000
DTEND;TZID=Europe/Stockholm:20301208T120000
DTSTAMP:20260423T044201
DESCRIPTION:
SEQUENCE:0
SUMMARY:Gudstjänst
UID:9544@lawebb.se
END:VEVENT
END:VCALENDAR