BEGIN:VCALENDAR
VERSION:2.0
BEGIN:VEVENT
DTSTART;TZID=Europe/Stockholm:20300922T110000
DTEND;TZID=Europe/Stockholm:20300922T120000
DTSTAMP:20260422T234600
DESCRIPTION:
SEQUENCE:0
SUMMARY:Gudstjänst
UID:6267@lawebb.se
END:VEVENT
END:VCALENDAR