BEGIN:VCALENDAR
VERSION:2.0
BEGIN:VEVENT
DTSTART;TZID=Europe/Stockholm:20300825T110000
DTEND;TZID=Europe/Stockholm:20300825T120000
DTSTAMP:20260422T215553
DESCRIPTION:
SEQUENCE:0
SUMMARY:Gudstjänst
UID:8278@lawebb.se
END:VEVENT
END:VCALENDAR