BEGIN:VCALENDAR
VERSION:2.0
BEGIN:VEVENT
DTSTART;TZID=Europe/Stockholm:20300818T110000
DTEND;TZID=Europe/Stockholm:20300818T120000
DTSTAMP:20260422T215441
DESCRIPTION:
SEQUENCE:0
SUMMARY:Gudstjänst
UID:6366@lawebb.se
END:VEVENT
END:VCALENDAR