BEGIN:VCALENDAR
VERSION:2.0
BEGIN:VEVENT
DTSTART;TZID=Europe/Stockholm:20300707T110000
DTEND;TZID=Europe/Stockholm:20300707T120000
DTSTAMP:20260422T201349
DESCRIPTION:
SEQUENCE:0
SUMMARY:Gudstjänst
UID:2859@lawebb.se
END:VEVENT
END:VCALENDAR