BEGIN:VCALENDAR
VERSION:2.0
BEGIN:VEVENT
DTSTART;TZID=Europe/Stockholm:20300602T110000
DTEND;TZID=Europe/Stockholm:20300602T120000
DTSTAMP:20260422T183303
DESCRIPTION:
SEQUENCE:0
SUMMARY:Gudstjänst
UID:8788@lawebb.se
END:VEVENT
END:VCALENDAR