BEGIN:VCALENDAR
VERSION:2.0
BEGIN:VEVENT
DTSTART;TZID=Europe/Stockholm:20300505T110000
DTEND;TZID=Europe/Stockholm:20300505T120000
DTSTAMP:20260422T170740
DESCRIPTION:
SEQUENCE:0
SUMMARY:Gudstjänst
UID:3655@lawebb.se
END:VEVENT
END:VCALENDAR