BEGIN:VCALENDAR
VERSION:2.0
BEGIN:VEVENT
DTSTART;TZID=Europe/Stockholm:20291028T110000
DTEND;TZID=Europe/Stockholm:20291028T120000
DTSTAMP:20260422T070738
DESCRIPTION:
SEQUENCE:0
SUMMARY:Gudstjänst
UID:3995@lawebb.se
END:VEVENT
END:VCALENDAR