BEGIN:VCALENDAR
VERSION:2.0
BEGIN:VEVENT
DTSTART;TZID=Europe/Stockholm:20291021T110000
DTEND;TZID=Europe/Stockholm:20291021T120000
DTSTAMP:20260422T070512
DESCRIPTION:
SEQUENCE:0
SUMMARY:Gudstjänst
UID:8422@lawebb.se
END:VEVENT
END:VCALENDAR