BEGIN:VCALENDAR
VERSION:2.0
BEGIN:VEVENT
DTSTART;TZID=Europe/Stockholm:20290819T110000
DTEND;TZID=Europe/Stockholm:20290819T120000
DTSTAMP:20260422T042859
DESCRIPTION:
SEQUENCE:0
SUMMARY:Gudstjänst
UID:5485@lawebb.se
END:VEVENT
END:VCALENDAR