BEGIN:VCALENDAR
VERSION:2.0
BEGIN:VEVENT
DTSTART;TZID=Europe/Stockholm:20290506T110000
DTEND;TZID=Europe/Stockholm:20290506T120000
DTSTAMP:20260422T000605
DESCRIPTION:
SEQUENCE:0
SUMMARY:Gudstjänst
UID:2655@lawebb.se
END:VEVENT
END:VCALENDAR