BEGIN:VCALENDAR
VERSION:2.0
BEGIN:VEVENT
DTSTART;TZID=Europe/Stockholm:20290429T110000
DTEND;TZID=Europe/Stockholm:20290429T120000
DTSTAMP:20260421T223638
DESCRIPTION:
SEQUENCE:0
SUMMARY:Gudstjänst
UID:9645@lawebb.se
END:VEVENT
END:VCALENDAR