BEGIN:VCALENDAR
VERSION:2.0
BEGIN:VEVENT
DTSTART;TZID=Europe/Stockholm:20290121T110000
DTEND;TZID=Europe/Stockholm:20290121T120000
DTSTAMP:20260421T175649
DESCRIPTION:
SEQUENCE:0
SUMMARY:Gudstjänst
UID:4854@lawebb.se
END:VEVENT
END:VCALENDAR