BEGIN:VCALENDAR
VERSION:2.0
BEGIN:VEVENT
DTSTART;TZID=Europe/Stockholm:20281224T110000
DTEND;TZID=Europe/Stockholm:20281224T120000
DTSTAMP:20260421T163328
DESCRIPTION:
SEQUENCE:0
SUMMARY:Gudstjänst
UID:3579@lawebb.se
END:VEVENT
END:VCALENDAR