BEGIN:VCALENDAR
VERSION:2.0
BEGIN:VEVENT
DTSTART;TZID=Europe/Stockholm:20281217T110000
DTEND;TZID=Europe/Stockholm:20281217T120000
DTSTAMP:20260421T163001
DESCRIPTION:
SEQUENCE:0
SUMMARY:Gudstjänst
UID:5974@lawebb.se
END:VEVENT
END:VCALENDAR