BEGIN:VCALENDAR
VERSION:2.0
BEGIN:VEVENT
DTSTART;TZID=Europe/Stockholm:20280827T110000
DTEND;TZID=Europe/Stockholm:20280827T120000
DTSTAMP:20260421T101332
DESCRIPTION:
SEQUENCE:0
SUMMARY:Gudstjänst
UID:9643@lawebb.se
END:VEVENT
END:VCALENDAR