BEGIN:VCALENDAR
VERSION:2.0
BEGIN:VEVENT
DTSTART;TZID=Europe/Stockholm:20231017T190000
DTEND;TZID=Europe/Stockholm:20231017T200000
DTSTAMP:20260421T101740
DESCRIPTION:Vi läser från Psaltaren i Bibeln och ber tillsammans.
SEQUENCE:0
SUMMARY:Bön och bibelsamtal
UID:2836@lawebb.se
END:VEVENT
END:VCALENDAR