BEGIN:VCALENDAR
VERSION:2.0
BEGIN:VEVENT
DTSTART;TZID=Europe/Stockholm:20231011T123000
DTEND;TZID=Europe/Stockholm:20231011T133000
DTSTAMP:20260421T102112
DESCRIPTION:
SEQUENCE:0
SUMMARY:Lunchmusik med Göran Nygren
UID:4459@lawebb.se
END:VEVENT
END:VCALENDAR